BEGIN:VCALENDAR
VERSION:2.0
PRODID:-//hacksw/handcal//NONSGML v1.0//EN
CALSCALE:GREGORIAN
BEGIN:VEVENT
LOCATION:
DESCRIPTION:
DTSTART:20260426
DTEND:20260428
SUMMARY:Gelbe Tonne - Gemeinde Faßberg
URL:
DTSTAMP:20260425T175802
UID:69ed00aa72e70
END:VEVENT
END:VCALENDAR