BEGIN:VCALENDAR
VERSION:2.0
PRODID:-//hacksw/handcal//NONSGML v1.0//EN
CALSCALE:GREGORIAN
BEGIN:VEVENT
LOCATION:
DESCRIPTION:Alle Termine auf www.schulferien.org
DTSTART:20260430
DTEND:20260502
SUMMARY:Tag der Arbeit
URL:
DTSTAMP:20260424T141927
UID:69eb7befc5146
END:VEVENT
END:VCALENDAR